BEGIN:VCALENDAR
VERSION:2.0
PRODID:-//Atsiliepimai, naujienos, informacija auginantiems vaikus - ECPv5.1.0//NONSGML v1.0//EN
CALSCALE:GREGORIAN
METHOD:PUBLISH
X-WR-CALNAME:Atsiliepimai, naujienos, informacija auginantiems vaikus
X-ORIGINAL-URL:https://vaikodiena.lt
X-WR-CALDESC:Atsiliepimai, naujienos, informacija auginantiems vaikus renginiai
BEGIN:VTIMEZONE
TZID:Europe/Vilnius
BEGIN:DAYLIGHT
TZOFFSETFROM:+0200
TZOFFSETTO:+0300
TZNAME:EEST
DTSTART:20190331T010000
END:DAYLIGHT
BEGIN:STANDARD
TZOFFSETFROM:+0300
TZOFFSETTO:+0200
TZNAME:EET
DTSTART:20191027T010000
END:STANDARD
END:VTIMEZONE
BEGIN:VEVENT
DTSTART;TZID=Europe/Vilnius:20190107T120000
DTEND;TZID=Europe/Vilnius:20190131T210000
DTSTAMP:20260424T202257
CREATED:20190109T052051Z
LAST-MODIFIED:20190110T102819Z
UID:88641-1546862400-1548968400@vaikodiena.lt
SUMMARY:Virtualios pramogos
DESCRIPTION:Nuspalvink žiemiško miestelio gyventojus ir stebėk kaip jie atgyja milžiniškame ekrane! \nSausio 1 – 31 dienomis. Darbo dienomis 16\,18 ir 20 val.\, savaitgaliais 13\, 15 ir 19 val.     \n
URL:https://vaikodiena.lt/renginys/virtualios-pramogos/
LOCATION:Curio City mieste\, Islandijos pl 32 Kaunas\, Kaunas\, Lietuva
CATEGORIES:Naujienos,Renginiai
ATTACH;FMTTYPE=image/jpeg:https://vaikodiena.lt/wp-content/uploads/2019/01/curio-city-pramogos.jpg
END:VEVENT
END:VCALENDAR