BEGIN:VCALENDAR
VERSION:2.0
PRODID:-//Atsiliepimai, naujienos, informacija auginantiems vaikus - ECPv5.1.0//NONSGML v1.0//EN
CALSCALE:GREGORIAN
METHOD:PUBLISH
X-WR-CALNAME:Atsiliepimai, naujienos, informacija auginantiems vaikus
X-ORIGINAL-URL:https://vaikodiena.lt
X-WR-CALDESC:Atsiliepimai, naujienos, informacija auginantiems vaikus renginiai
BEGIN:VTIMEZONE
TZID:Europe/Vilnius
BEGIN:DAYLIGHT
TZOFFSETFROM:+0200
TZOFFSETTO:+0300
TZNAME:EEST
DTSTART:20190331T010000
END:DAYLIGHT
BEGIN:STANDARD
TZOFFSETFROM:+0300
TZOFFSETTO:+0200
TZNAME:EET
DTSTART:20191027T010000
END:STANDARD
END:VTIMEZONE
BEGIN:VEVENT
DTSTART;TZID=Europe/Vilnius:20190123T040000
DTEND;TZID=Europe/Vilnius:20190127T040000
DTSTAMP:20260425T215252
CREATED:20190123T072243Z
LAST-MODIFIED:20190123T074216Z
UID:88910-1548216000-1548561600@vaikodiena.lt
SUMMARY:Technikos dirbtuvės jums ir dėl jūsų!
DESCRIPTION:Kviečiame vaikus į technikos dirbtuves\, kurių metu konstruosime visiškai nerealius dalykus. Užsiėmimo metu sujungsime meną\, mechaniką\, kūrybiškumą\, žinias ir smalsumą! \nEdukacijų metu stebėsime eksperimentus su magnetais\, baterijomis\, lemputėmis ir bandysime patys pasigaminti šviečiančią atvirutę! O gal keltuvą\, kuris gali pakelti daiktus? Netgi galėsime pabandyti sukurti spalvotą paukštį\, kuris judins savo sparnus! O gal pasigaminame piešiančią mašiną\, kad nereikėtų rankose laikyti pieštukų? 🙂 \nMūsų programas rasite puslapyje www.galvasukis.lt\nNebijokime kurti ir išlaisvinti vaizduotės! \nIki susitikimo\nGalvasukyje!\n
URL:https://vaikodiena.lt/renginys/technikos-dirbtuves-jums-ir-del-jusu/
CATEGORIES:Naujienos
ATTACH;FMTTYPE=image/jpeg:https://vaikodiena.lt/wp-content/uploads/2019/01/image1.jpg
ORGANIZER;CN="Galvasukis.lt":MAILTO:info@galvasukis.lt
END:VEVENT
END:VCALENDAR