BEGIN:VCALENDAR
VERSION:2.0
PRODID:-//Atsiliepimai, naujienos, informacija auginantiems vaikus - ECPv5.1.0//NONSGML v1.0//EN
CALSCALE:GREGORIAN
METHOD:PUBLISH
X-WR-CALNAME:Atsiliepimai, naujienos, informacija auginantiems vaikus
X-ORIGINAL-URL:https://vaikodiena.lt
X-WR-CALDESC:Atsiliepimai, naujienos, informacija auginantiems vaikus renginiai
BEGIN:VTIMEZONE
TZID:Europe/Vilnius
BEGIN:DAYLIGHT
TZOFFSETFROM:+0200
TZOFFSETTO:+0300
TZNAME:EEST
DTSTART:20240331T010000
END:DAYLIGHT
BEGIN:STANDARD
TZOFFSETFROM:+0300
TZOFFSETTO:+0200
TZNAME:EET
DTSTART:20241027T010000
END:STANDARD
END:VTIMEZONE
BEGIN:VEVENT
DTSTART;TZID=Europe/Vilnius:20241011T000000
DTEND;TZID=Europe/Vilnius:20241103T000000
DTSTAMP:20260425T122907
CREATED:20241002T082152Z
LAST-MODIFIED:20241002T082205Z
UID:102417-1728604800-1730592000@vaikodiena.lt
SUMMARY:Spalio 11 d. atveria duris garsusis „Siaubo parkas“ Anykščiuose
DESCRIPTION:Nuo spalio 11\nd. Labirintų pramogų parko teritorija užsidengs tiršta migla\, kurioje prisikels\npiktosios dvasios ir demonai. Jie Jus vilios į siaubo persmelktus kambarius\, „Siaubo\nmišką“\, gundys smagiausiais atrakcionais ir radę progą tempsis į klaidžiausius\nlabirintus\, iš kurių nežinia ar išeisite… \nSkamba neblogai\, tiesa? Tikime\, kad girdėjote ir dar\nskambesnių reklamų. Tačiau Siaubo parko komanda tuščiai nekalba ir žada užkurti\nklyksmų vakarėlį\, tokį\, kad mažai tikrai nepasirodys! \nPrasta\nreputacija  \nKasmet\nsulaukianti grasinimų ir įspėjimų už vertybių laužymą\, Siaubo parko komanda\nšiais metais reputacijos taisyti nežada. Parke ir toliau vyrauja numirėlių\,\ndemonų ir raganų tema\, o animatoriai ne tik vers Jus bėgti ar sustingti iš\nbaimės\, bet ir privers suabejoti realybe. O kuo bus tamsiau – tuo bus baisiau. Lažinamės\,\nkad ne visi išdrįsite įeiti į visas Siaubo parke esančias vietas? \nKas įskaičiuota\nį bilieto kainą? \nSiaubo parkas Anykščiuose laikosi tradicijų ne tik dėl prastos\nvertybinės reputacijos\, bet ir dėl vieno bilieto visoms pramogoms\, suteikdamas\ngalimybę visiems lankytojams neribotai mėgautis daugybe pramogų ir atrakcionų.\nTaip pat tęsiama tradicija kasmet nustebinti lankytojus vis naujomis\, į bilieto\nkainą įskaičiuotomis pramogomis. Todėl šiais metas parkas savo pramogų sąrašą\npapildys dviem naujais atrakcionais: „Transformeris“  ir „Autodromas“. Taigi\, į bilieto kainą bus įskaičiuoti\nnet visi 8 teritorijoje esantys ekstremalūs ir vaikiški atrakcionai\, įvairūs siaubu\nalsuojantys kambariai ir klaidūs labirintai\, vaikų zona ir dar daugybė kitų\npramogų\, kurių visą sąrašą rasite apsilankę svetainėje www.siauboparkas.lt. \nParkas kviečia apsilankyti ir šeimas su mažais vaikais \nTaip\, mūsų pramogos ir atrakcionai puikiai tinka visai\nšeimai. Be to\, specialiai mažiesiems bus įrengta vaikų zona su žaidimų aikštele\nir vaikiškomis karuselėmis. Animatoriai dienos metu šeimų su mažais vaikučiais\ntaip pat negąsdins. Vakare\, kai matomumas prastas to užtikrinti Siaubo parkas\nnebegalės\, todėl labai rekomenduoja šeimoms su mažais vaikais apsilankyti tik\nšviesiu paros metu. \nSugrįžta „Siaubo miškas“ ir dar įspūdingesnis „Lazerių\nšou“ \nTie kas lankėsi „Siaubo parke Anykščiuose“ pernai\, tikrai\nprisimins „Siaubo mišką“. Nors dienos metu ten nevyko intensyvūs gąsdinimai –\nvis tik\, atsirasdavo žmonių\, kurie\, dar nežinodami kas laukia tame miške\,\natsisakydavo į jį eiti… Šiemet „Siaubo miške“ bus dar daugiau dekoracijų\, kad\ndienos metu pasivaikščiojimas būtų dar įspūdingesnis. O jau sutemus prasidės ten\nrimta pekla… \nSpalio 31 ir lapkričio 1 dienomis „Siaubo parkas“ savo\nlankytojams dovanos dar įspūdingesnį lazerių šou\, kuris vyks kas valandą nuo 18\nval. \nNuo piktųjų dvasių padės apsisaugoti specialūs gėrimai ir\nšildantys patiekalai \n„Siaubo parke“ veiks „Raganų namelis“ ir „Labirintų\npicerija“\, kuriuose bus verdami įvairūs\, sotūs ir šildantys patiekalai bei\napsaugantys nuo nužiūrėjimo tiek šalti\, tiek karšti gėrimai. \n
URL:https://vaikodiena.lt/renginys/spalio-11-d-atveria-duris-garsusis-siaubo-parkas-anyksciuose/
CATEGORIES:Renginiai
ATTACH;FMTTYPE=image/jpeg:https://vaikodiena.lt/wp-content/uploads/2024/10/LP-svetainei-1920-x-1080-scaled.jpg
END:VEVENT
END:VCALENDAR