BEGIN:VCALENDAR
VERSION:2.0
PRODID:-//Atsiliepimai, naujienos, informacija auginantiems vaikus - ECPv5.1.0//NONSGML v1.0//EN
CALSCALE:GREGORIAN
METHOD:PUBLISH
X-WR-CALNAME:Atsiliepimai, naujienos, informacija auginantiems vaikus
X-ORIGINAL-URL:https://vaikodiena.lt
X-WR-CALDESC:Atsiliepimai, naujienos, informacija auginantiems vaikus renginiai
BEGIN:VTIMEZONE
TZID:Europe/Vilnius
BEGIN:DAYLIGHT
TZOFFSETFROM:+0200
TZOFFSETTO:+0300
TZNAME:EEST
DTSTART:20190331T010000
END:DAYLIGHT
BEGIN:STANDARD
TZOFFSETFROM:+0300
TZOFFSETTO:+0200
TZNAME:EET
DTSTART:20191027T010000
END:STANDARD
END:VTIMEZONE
BEGIN:VEVENT
DTSTART;TZID=Europe/Vilnius:20190108T120000
DTEND;TZID=Europe/Vilnius:20190121T210000
DTSTAMP:20260425T033555
CREATED:20190108T043010Z
LAST-MODIFIED:20190108T043010Z
UID:88674-1546948800-1548104400@vaikodiena.lt
SUMMARY:Skrendam į VR planetą!
DESCRIPTION:It skafandrą dėkis #VR akinius ir skrisk į naują linksmybių planetą 👨‍🚀🚀 Šventės virtualioje realybėje – sau lygių neturinti pramoga vaikams ir tėvams! Per 3 valandas spėsite pasivažinėti atrakcionais\, tyrinėti vandenyno dugną ir net trumpam palikti Žemę. \n🔸 Kaina grupei (iki 10 žmonių): 140 €     \n
URL:https://vaikodiena.lt/renginys/skrendam-i-vr-planeta/
CATEGORIES:Renginiai
ATTACH;FMTTYPE=image/jpeg:https://vaikodiena.lt/wp-content/uploads/2019/01/VR-galvasukis.jpg
ORGANIZER;CN="Galvasukis.lt":MAILTO:info@galvasukis.lt
END:VEVENT
END:VCALENDAR