BEGIN:VCALENDAR
VERSION:2.0
PRODID:-//Atsiliepimai, naujienos, informacija auginantiems vaikus - ECPv5.1.0//NONSGML v1.0//EN
CALSCALE:GREGORIAN
METHOD:PUBLISH
X-WR-CALNAME:Atsiliepimai, naujienos, informacija auginantiems vaikus
X-ORIGINAL-URL:https://vaikodiena.lt
X-WR-CALDESC:Atsiliepimai, naujienos, informacija auginantiems vaikus renginiai
BEGIN:VTIMEZONE
TZID:Europe/Vilnius
BEGIN:DAYLIGHT
TZOFFSETFROM:+0200
TZOFFSETTO:+0300
TZNAME:EEST
DTSTART:20180325T010000
END:DAYLIGHT
BEGIN:STANDARD
TZOFFSETFROM:+0300
TZOFFSETTO:+0200
TZNAME:EET
DTSTART:20181028T010000
END:STANDARD
END:VTIMEZONE
BEGIN:VEVENT
DTSTART;TZID=Europe/Vilnius:20181108T020000
DTEND;TZID=Europe/Vilnius:20181108T020000
DTSTAMP:20260425T130408
CREATED:20181107T220000Z
LAST-MODIFIED:20181107T220000Z
UID:88314-1541642400-1541642400@vaikodiena.lt
SUMMARY:„ROBOTIADA“ PRADEDA BILIETŲ PARDAVIMĄ IR KVIES SKRISTI Į KOSMOSĄ
DESCRIPTION:„Robotiada“ – jau septintus metus vyksiantis renginys\, kuriame susitinka robotų kūrėjai\, sumanios šeimos\, robotikos varžybų aistruoliai. Čia ne tik galima apžiūrėti įdomiausių robotų parodą\, tačiau ir pačiam tapti kūrėju ir išbandyti robotų kūrimą. Renginyje ką veikti randa ir jaunas ir senas – šeimoms draugiškos technologijos vilioja ir visiškus naujokus ir robotikos profesionalus. \nGera žinias VšĮ Robotikos Akademija būrelių nariams – savo paskyrose jų laukia nuolaidos kodai\, su kuriais bet kurį bilietą gali įsigyti už dar mažesnę kainą! \nwww.robotikosakademija.lt     \n
URL:https://vaikodiena.lt/renginys/robotiada-pradeda-bilietu-pardavima-ir-kvies-skristi-kosmosa/
CATEGORIES:Įvykiai,Naujienos,Renginiai
ATTACH;FMTTYPE=image/jpeg:https://vaikodiena.lt/wp-content/uploads/2018/11/45548042_1921656108140698_9124214960115679232_n-1.jpg
END:VEVENT
END:VCALENDAR