BEGIN:VCALENDAR
VERSION:2.0
PRODID:-//Atsiliepimai, naujienos, informacija auginantiems vaikus - ECPv5.1.0//NONSGML v1.0//EN
CALSCALE:GREGORIAN
METHOD:PUBLISH
X-WR-CALNAME:Atsiliepimai, naujienos, informacija auginantiems vaikus
X-ORIGINAL-URL:https://vaikodiena.lt
X-WR-CALDESC:Atsiliepimai, naujienos, informacija auginantiems vaikus renginiai
BEGIN:VTIMEZONE
TZID:Europe/Vilnius
BEGIN:DAYLIGHT
TZOFFSETFROM:+0200
TZOFFSETTO:+0300
TZNAME:EEST
DTSTART:20190331T010000
END:DAYLIGHT
BEGIN:STANDARD
TZOFFSETFROM:+0300
TZOFFSETTO:+0200
TZNAME:EET
DTSTART:20191027T010000
END:STANDARD
END:VTIMEZONE
BEGIN:VEVENT
DTSTART;TZID=Europe/Vilnius:20190121T120000
DTEND;TZID=Europe/Vilnius:20190130T210000
DTSTAMP:20260425T165151
CREATED:20190121T044827Z
LAST-MODIFIED:20190121T044827Z
UID:88838-1548072000-1548882000@vaikodiena.lt
SUMMARY:ROBOTIADA 2019
DESCRIPTION:Susiraskite skafandrus ir pasirūpinkite deguonies atsargomis\, nes 2019 03 23 kilsime į kosmosą❗ Tai didžiausia technologijų šventė visai šeimai\, kurioje privalo būti kiekvienas svajojantis apie nuostabių technologijų pilną ateitį. \nROBOTIADA – jau septintus metus vyksiantis renginys\, kuriame susitinka robotų kūrėjai\, sumanios šeimos\, robotikos varžybų aistruoliai. Čia ne tik galima apžiūrėti įdomiausių robotų parodą\, tačiau ir pačiam tapti kūrėju ir išbandyti robotų kūrimą. Renginyje\, ką veikti randa ir jaunas ir senas – šeimoms draugiškos technologijos vilioja ir visiškus naujokus ir robotikos profesionalus. \n⚠️ Kosminėje stotyje ROBOTIADA Jūsų laukia:\nPažintis su kosmoso technologijomis 👩‍🚀\nNAUJIENA! Robotų kovos naujokams ir niekad nekonstravusiems robotų 🚀\nDaugiausiai robotų Lietuvoje vienoje vietoje 🤖\nĮspūdingos kosminės dekoracijos 🛰️\nDidžiausia robotų ir LEGO paroda Lietuvoje 🏟️\nDidžiausios Lietuvoje robotų kovos su vertingais prizais 🏆\nDaugiausiai robotikos dirbtuvių vienoje vietoje 👫 \nVaikams iki 4 metų\, pateikus dokumentą\, įėjimas į renginį nemokamas. Vaikus iki 10 metų privalo lydėti suaugęs asmuo. \nwww.robotikosakademija.lt     \n
URL:https://vaikodiena.lt/renginys/robotiada-2019/
CATEGORIES:Renginiai
ATTACH;FMTTYPE=image/jpeg:https://vaikodiena.lt/wp-content/uploads/2019/01/robotiada.jpg
ORGANIZER;CN="Robotikos%20akademija":MAILTO:info@robotikosakademija.lt
END:VEVENT
END:VCALENDAR