BEGIN:VCALENDAR
VERSION:2.0
PRODID:-//Atsiliepimai, naujienos, informacija auginantiems vaikus - ECPv5.1.0//NONSGML v1.0//EN
CALSCALE:GREGORIAN
METHOD:PUBLISH
X-WR-CALNAME:Atsiliepimai, naujienos, informacija auginantiems vaikus
X-ORIGINAL-URL:https://vaikodiena.lt
X-WR-CALDESC:Atsiliepimai, naujienos, informacija auginantiems vaikus renginiai
BEGIN:VTIMEZONE
TZID:Europe/Vilnius
BEGIN:DAYLIGHT
TZOFFSETFROM:+0200
TZOFFSETTO:+0300
TZNAME:EEST
DTSTART:20190331T010000
END:DAYLIGHT
BEGIN:STANDARD
TZOFFSETFROM:+0300
TZOFFSETTO:+0200
TZNAME:EET
DTSTART:20191027T010000
END:STANDARD
END:VTIMEZONE
BEGIN:VEVENT
DTSTART;TZID=Europe/Vilnius:20190124T040000
DTEND;TZID=Europe/Vilnius:20190129T040000
DTSTAMP:20260425T235211
CREATED:20190124T051611Z
LAST-MODIFIED:20190124T053338Z
UID:88938-1548302400-1548734400@vaikodiena.lt
SUMMARY:Pradedame rezervuoti vietas 2019/2020 metams
DESCRIPTION:Kviečiame pas mus į „Pasakų namuką“. Apsižiūrėsite aplinką\, susipažinsite su auklėtojomis\, bei  galėsite rezervuoti laisvas vietas 2019/2020 mokslo metams. \nPriimame vaikučius nuo 1\,5 metukų.  Laukiame Jūsų ir Jūsų mažylių!!!     \n
URL:https://vaikodiena.lt/renginys/pradedame-rezervuoti-vietas-2019-2020-metams/
CATEGORIES:Įvykiai,Naujienos
ATTACH;FMTTYPE=image/png:https://vaikodiena.lt/wp-content/uploads/2019/01/49528551_2289551464391116_6108453108579303424_n.png
ORGANIZER;CN="Pasak%C5%B3%20namukas":MAILTO:labas@pasakunamukas.lt
END:VEVENT
END:VCALENDAR