BEGIN:VCALENDAR
VERSION:2.0
PRODID:-//Atsiliepimai, naujienos, informacija auginantiems vaikus - ECPv5.1.0//NONSGML v1.0//EN
CALSCALE:GREGORIAN
METHOD:PUBLISH
X-WR-CALNAME:Atsiliepimai, naujienos, informacija auginantiems vaikus
X-ORIGINAL-URL:https://vaikodiena.lt
X-WR-CALDESC:Atsiliepimai, naujienos, informacija auginantiems vaikus renginiai
BEGIN:VTIMEZONE
TZID:Europe/Vilnius
BEGIN:DAYLIGHT
TZOFFSETFROM:+0200
TZOFFSETTO:+0300
TZNAME:EEST
DTSTART:20180325T010000
END:DAYLIGHT
BEGIN:STANDARD
TZOFFSETFROM:+0300
TZOFFSETTO:+0200
TZNAME:EET
DTSTART:20181028T010000
END:STANDARD
END:VTIMEZONE
BEGIN:VEVENT
DTSTART;TZID=Europe/Vilnius:20181108T020000
DTEND;TZID=Europe/Vilnius:20181108T020000
DTSTAMP:20260425T144817
CREATED:20181107T220000Z
LAST-MODIFIED:20181107T220000Z
UID:88318-1541642400-1541642400@vaikodiena.lt
SUMMARY:Kuria Vaikai
DESCRIPTION:Esame BŪRELIS VAIKAMS NUO 9 MĖN. IKI 7 METŲ ir nors jau pradėjome antrąją Kuria Vaikai naujojo sezono savaitę VILNIAUS\, KAUNO\, KLAIPĖDOS ir ŠIAULIŲ studijose\, norime pasidalinti siautulingos\, žaismingos\, kūrybiškos\, pilnos spalvų\, vaikų juoko ir džiaugsmo pirmosios savaitės akimirkomis! Jei paklaustumėte šių mažųjų kūrėjų\, kur pati geriausia vieta yra pažinti\, atrasti\, suprasti\, pajausti\, sužinoti ir išmokti net nesuprantant\, kad mokaisi\, o tiesiog iš širdies besidžiaugiant laisvu žaidimu\, jie nė nedvejodami Jums parodytų studijų #KuriaVaikai kryptimi! Jei dar neapsilankėte\, čiupkite likusias vietas rugsėjo mėnesiams ir rezervuokite apsilankymus jau ir spaliui bei kitiems semestro mėnesiams – kad netektų tik stebėti\, kaip pačiu tinkamiausiu būdu – laisvu žaidimu -lavinasi ir mėgaujasi kitų mažyliai\, bet šį pažinimo ir žaidimo džiaugsmą išbandytų ir jūsų mylimiausi! REGISTRACIJA INTERNETU kuriavaikai.lt/paslaugos     \n
URL:https://vaikodiena.lt/renginys/kuria-vaikai/
CATEGORIES:Įvykiai,Naujienos,Renginiai
ATTACH;FMTTYPE=image/jpeg:https://vaikodiena.lt/wp-content/uploads/2018/11/45459705_696388294080828_2712773933395869696_o.jpg
END:VEVENT
END:VCALENDAR