BEGIN:VCALENDAR
VERSION:2.0
PRODID:-//Atsiliepimai, naujienos, informacija auginantiems vaikus - ECPv5.1.0//NONSGML v1.0//EN
CALSCALE:GREGORIAN
METHOD:PUBLISH
X-WR-CALNAME:Atsiliepimai, naujienos, informacija auginantiems vaikus
X-ORIGINAL-URL:https://vaikodiena.lt
X-WR-CALDESC:Atsiliepimai, naujienos, informacija auginantiems vaikus renginiai
BEGIN:VTIMEZONE
TZID:Europe/Vilnius
BEGIN:DAYLIGHT
TZOFFSETFROM:+0200
TZOFFSETTO:+0300
TZNAME:EEST
DTSTART:20190331T010000
END:DAYLIGHT
BEGIN:STANDARD
TZOFFSETFROM:+0300
TZOFFSETTO:+0200
TZNAME:EET
DTSTART:20191027T010000
END:STANDARD
END:VTIMEZONE
BEGIN:VEVENT
DTSTART;TZID=Europe/Vilnius:20190108T120000
DTEND;TZID=Europe/Vilnius:20190121T210000
DTSTAMP:20260424T221050
CREATED:20190108T033533Z
LAST-MODIFIED:20190108T033534Z
UID:88645-1546948800-1548104400@vaikodiena.lt
SUMMARY:Kuria vaikai
DESCRIPTION:Kokie gimtadieniai patinka vaikams? Kad ir kokie būtų mažųjų pomėgiai\, nė vienas vaikas neatsisakys siautulingo\, laisvo ir žaismingo gimtadienio\, kuriame jubiljatas kartu su draugais pasinertų į eksperimentų\, laisvos kūrybos ir naujus pojūčius atveriančių purvinų žaidimų džiaugsmą! Ar gali nepatikti kūrybiškai gaminti savo paties dydžio tortą\, eksperimento būdu išgauti šnypščiantį ir putojantį ugnikalnį\, ištirpinti ir iš ledo kiaušinių išlaisvinti dinozaurą\, į visas puses trykštant dažams ir besimėgaujant procesu nupiešti milžinišką bendrą paveikslą\, siautulingai sužaisti minkštučių putų mūšį ir dar daugelis kitų užsiėmimų\, kurių metu niekam nereikia saugoti drabužių\, grindų ar sienų švaros\, o tik atsipalaiduoti ir siausti taip\, kaip galima tik vaikystėje! Būtent tokius unikalius ir vaikystės džiaugsmu bei kitomis geriausiomis emocijomis trykštančius gimtadienius rengiame #KuriaVaikaistudijose Vilniuje\, Kaune\, Klaipėdoje ir Šiauliuose! Jei sudomino\, rašykite dominančio miesto kontaktaishttp://www.kuriavaikai.lt/kontaktai/ ir pasiūlysime neabejotinai įsimintiniausią jūsų mažylio gimtadienio šventimo programą! Švęsti pas mus tinka tiek pačių mažiausių – metinukų – gimtadienius\, tiek ir gerokai didesnių\, net iki 8 metų!     \n
URL:https://vaikodiena.lt/renginys/kuria-vaikai-3/
CATEGORIES:Renginiai
ATTACH;FMTTYPE=image/jpeg:https://vaikodiena.lt/wp-content/uploads/2019/01/Kuria-vaikai-kaune-ir-klaipedoje.jpg
ORGANIZER;CN="Kuria%20vaikai":MAILTO:info@kuriavaikai.lt
END:VEVENT
END:VCALENDAR