BEGIN:VCALENDAR
VERSION:2.0
PRODID:-//Atsiliepimai, naujienos, informacija auginantiems vaikus - ECPv5.1.0//NONSGML v1.0//EN
CALSCALE:GREGORIAN
METHOD:PUBLISH
X-WR-CALNAME:Atsiliepimai, naujienos, informacija auginantiems vaikus
X-ORIGINAL-URL:https://vaikodiena.lt
X-WR-CALDESC:Atsiliepimai, naujienos, informacija auginantiems vaikus renginiai
BEGIN:VTIMEZONE
TZID:Europe/Vilnius
BEGIN:DAYLIGHT
TZOFFSETFROM:+0200
TZOFFSETTO:+0300
TZNAME:EEST
DTSTART:20180325T010000
END:DAYLIGHT
BEGIN:STANDARD
TZOFFSETFROM:+0300
TZOFFSETTO:+0200
TZNAME:EET
DTSTART:20181028T010000
END:STANDARD
END:VTIMEZONE
BEGIN:VEVENT
DTSTART;TZID=Europe/Vilnius:20181126T020000
DTEND;TZID=Europe/Vilnius:20181126T020000
DTSTAMP:20260425T103033
CREATED:20181125T220000Z
LAST-MODIFIED:20181125T220000Z
UID:88324-1543197600-1543197600@vaikodiena.lt
SUMMARY:Kalėdų žaisliukai
DESCRIPTION:Šis žaisliukas – dekoracija taip dailiai atrodo\, kad jau norime papuošti Kalėdų eglutę 🎄🚗\nPuošti ar nepuošti?\nŽaisliuką rasite čia:👇\nhttps://bit.ly/2PslSqg\n#KaleduZaisliukasDekoracija #PartyInbox#SvenciuEkspertai #Vilnius #Lietuva     \n
URL:https://vaikodiena.lt/renginys/kaledu-zaisliukai/
CATEGORIES:Įvykiai,Naujienos,Nuolaidos
ATTACH;FMTTYPE=image/jpeg:https://vaikodiena.lt/wp-content/uploads/2018/11/kaledu-zaisliukas.jpg
END:VEVENT
END:VCALENDAR