BEGIN:VCALENDAR
VERSION:2.0
PRODID:-//Atsiliepimai, naujienos, informacija auginantiems vaikus - ECPv5.1.0//NONSGML v1.0//EN
CALSCALE:GREGORIAN
METHOD:PUBLISH
X-WR-CALNAME:Atsiliepimai, naujienos, informacija auginantiems vaikus
X-ORIGINAL-URL:https://vaikodiena.lt
X-WR-CALDESC:Atsiliepimai, naujienos, informacija auginantiems vaikus renginiai
BEGIN:VTIMEZONE
TZID:Europe/Vilnius
BEGIN:DAYLIGHT
TZOFFSETFROM:+0200
TZOFFSETTO:+0300
TZNAME:EEST
DTSTART:20190331T010000
END:DAYLIGHT
BEGIN:STANDARD
TZOFFSETFROM:+0300
TZOFFSETTO:+0200
TZNAME:EET
DTSTART:20191027T010000
END:STANDARD
END:VTIMEZONE
BEGIN:VEVENT
DTSTART;TZID=Europe/Vilnius:20190122T120000
DTEND;TZID=Europe/Vilnius:20190129T210000
DTSTAMP:20260425T183115
CREATED:20190122T031955Z
LAST-MODIFIED:20190122T031955Z
UID:88851-1548158400-1548795600@vaikodiena.lt
SUMMARY:„JEI PRAKALBĖTŲ\, DAUG PASAKYTŲ…“ 2019 – NUOSTATAI
DESCRIPTION:Respublikinis kūrybinis etnografinės kraštotyros vaikų ir mokinių konkursas „Jei prakalbėtų\, daug pasakytų…“\, skirtas Lietuvos Nepriklausomybės atkūrimo dienai \nKviečiame ikimokyklinių ugdymo įstaigų vaikus\, darželių – mokyklų\, pradinių\,  pagrindinių mokyklų\, progimnazijų bei gimnazijų\, neformalaus švietimo įstaigų mokinius\, jų šeimos narius\, pedagogus dalyvauti respublikiniame kūrybiniame etnografinės kraštotyros vaikų ir mokinių konkurse „Jei prakalbėtų\, daug pasakytų…‘\, skirtame Lietuvos Nepriklausomybės atkūrimo dienai. \nKonkurso tikslas – skatinti vaikų ir mokinių\, jų šeimos narių\, pedagogų iniciatyvumą\, kūrybiškumą\, aktyvumą\, puoselėjant etninės kultūros vertybes\, siekiant pažinti\, rinkti ir saugoti senuosius etnografinius namų apyvokos daiktus\, atskleidžiant jų prasmę bei reikšmę žmogui. \nRegistracija iki 2019 m. vasario mėn. 8 d. \nKonkurso laikas: 2019 m. kovo 7 d. 13 val. \nVieta: Kauno tautinės kultūros centras (A. Jakšto g.18\, Kaunas\, LT– 44275). \n(Esant gausesniam dalyvių skaičiui\, konkurso baigiamojo renginio data ir laikas gali keistis) \nNUOSTATAI \nDALYVIO PARAIŠKA (priedas Nr. 1)   Eksponato-nuotraukos KORTELĖ (priedas Nr. 2\, priedas Nr. 3) \nIšsamesnė informacija: kreiptis į metodininkę Irmą O. Lėvartę\, tel. 8-679-36-718\, el.p. irma.odeta@gmail.com.     \n
URL:https://vaikodiena.lt/renginys/jei-prakalbetu-daug-pasakytu-2019-nuostatai/
CATEGORIES:Renginiai
ATTACH;FMTTYPE=image/jpeg:https://vaikodiena.lt/wp-content/uploads/2019/01/fonas-KTKC-n-1920x780.jpg
ORGANIZER;CN="Kauno%20Tautin%C4%97s%20Kult%C5%ABros%20Centras":MAILTO:irma.odeta@gmail.com
END:VEVENT
END:VCALENDAR