BEGIN:VCALENDAR
VERSION:2.0
PRODID:-//Atsiliepimai, naujienos, informacija auginantiems vaikus - ECPv5.1.0//NONSGML v1.0//EN
CALSCALE:GREGORIAN
METHOD:PUBLISH
X-WR-CALNAME:Atsiliepimai, naujienos, informacija auginantiems vaikus
X-ORIGINAL-URL:https://vaikodiena.lt
X-WR-CALDESC:Atsiliepimai, naujienos, informacija auginantiems vaikus renginiai
BEGIN:VTIMEZONE
TZID:Europe/Vilnius
BEGIN:DAYLIGHT
TZOFFSETFROM:+0200
TZOFFSETTO:+0300
TZNAME:EEST
DTSTART:20240331T010000
END:DAYLIGHT
BEGIN:STANDARD
TZOFFSETFROM:+0300
TZOFFSETTO:+0200
TZNAME:EET
DTSTART:20241027T010000
END:STANDARD
BEGIN:DAYLIGHT
TZOFFSETFROM:+0200
TZOFFSETTO:+0300
TZNAME:EEST
DTSTART:20250330T010000
END:DAYLIGHT
BEGIN:STANDARD
TZOFFSETFROM:+0300
TZOFFSETTO:+0200
TZNAME:EET
DTSTART:20251026T010000
END:STANDARD
END:VTIMEZONE
BEGIN:VEVENT
DTSTART;TZID=Europe/Vilnius:20241212T080000
DTEND;TZID=Europe/Vilnius:20250221T170000
DTSTAMP:20260425T141127
CREATED:20241212T091511Z
LAST-MODIFIED:20241212T091511Z
UID:102516-1733990400-1740157200@vaikodiena.lt
SUMMARY:Išmok plaukti!
DESCRIPTION:\nKviečiame suaugusiuosius prisijungti prie plaukimo pamokų Kaune ir Druskininkuose! \n\n\nTai puiki galimybė:\n Išmokti plaukti nuo pagrindų;\n Patobulinti jau turimus plaukimo įgūdžius;\n Atrasti plaukimo malonumą ir naudą sveikatai\n\n\nPlaukimas – tai ne tik sportas\, bet ir gyvybiškai svarbus įgūdis\, kuris suteikia daugiau pasitikėjimo savimi tiek vandenyje\, tiek gyvenime.  Nesvarbu\, kiek jums metų – mokytis visada galima pradėti dabar!\n\n\n Registracija ir daugiau informacijos:\nKaunas: https://www.akademijabanga.lt/registracija/?miestas=kaunas\nDruskininkai: https://www.akademijabanga.lt/registracija/…\n\n\n Paverskite savo tikslus realybe – pradėkite mokytis jau šiandien! \n\n
URL:https://vaikodiena.lt/renginys/ismok-plaukti/
CATEGORIES:Renginiai
ATTACH;FMTTYPE=image/jpeg:https://vaikodiena.lt/wp-content/uploads/2024/12/363340327_770101518449295_8013594234538800044_n-scaled.jpg
END:VEVENT
END:VCALENDAR