BEGIN:VCALENDAR
VERSION:2.0
PRODID:-//Atsiliepimai, naujienos, informacija auginantiems vaikus - ECPv5.1.0//NONSGML v1.0//EN
CALSCALE:GREGORIAN
METHOD:PUBLISH
X-WR-CALNAME:Atsiliepimai, naujienos, informacija auginantiems vaikus
X-ORIGINAL-URL:https://vaikodiena.lt
X-WR-CALDESC:Atsiliepimai, naujienos, informacija auginantiems vaikus renginiai
BEGIN:VTIMEZONE
TZID:Europe/Vilnius
BEGIN:DAYLIGHT
TZOFFSETFROM:+0200
TZOFFSETTO:+0300
TZNAME:EEST
DTSTART:20190331T010000
END:DAYLIGHT
BEGIN:STANDARD
TZOFFSETFROM:+0300
TZOFFSETTO:+0200
TZNAME:EET
DTSTART:20191027T010000
END:STANDARD
END:VTIMEZONE
BEGIN:VEVENT
DTSTART;TZID=Europe/Vilnius:20190121T120000
DTEND;TZID=Europe/Vilnius:20190130T210000
DTSTAMP:20260425T130414
CREATED:20190121T043605Z
LAST-MODIFIED:20190121T043605Z
UID:88832-1548072000-1548882000@vaikodiena.lt
SUMMARY:Gitaros pamokos "Sveikutyje" - ir mažiems ir dideliems 🙂!
DESCRIPTION:🎸 Laukiami visi nuo aštuonerių metų;\n🎸 Pamokos individualios arba grupinės;\n🎸 Repertuaras bus parinktas pagal Jūsų poreikį ir pomėgius;\n🎸 Pamokos vyksta treciadieniais ir ketvirtadieniais 16 ir 17 valandomis.\n🎸 Susisiekite: mob. tel. +370 672 71 424\,\nel. paštu: sveikutis@sveikutis.lt     \n
URL:https://vaikodiena.lt/renginys/gitaros-pamokos-sveikutyje-ir-maziems-ir-dideliems-%f0%9f%99%82/
CATEGORIES:Renginiai
ATTACH;FMTTYPE=image/jpeg:https://vaikodiena.lt/wp-content/uploads/2019/01/Sveikutis.jpg
ORGANIZER;CN="Sveikutis":MAILTO:sveikutis@sveikutis.lt
END:VEVENT
END:VCALENDAR