BEGIN:VCALENDAR
VERSION:2.0
PRODID:-//Atsiliepimai, naujienos, informacija auginantiems vaikus - ECPv5.1.0//NONSGML v1.0//EN
CALSCALE:GREGORIAN
METHOD:PUBLISH
X-WR-CALNAME:Atsiliepimai, naujienos, informacija auginantiems vaikus
X-ORIGINAL-URL:https://vaikodiena.lt
X-WR-CALDESC:Atsiliepimai, naujienos, informacija auginantiems vaikus renginiai
BEGIN:VTIMEZONE
TZID:Europe/Vilnius
BEGIN:DAYLIGHT
TZOFFSETFROM:+0200
TZOFFSETTO:+0300
TZNAME:EEST
DTSTART:20180325T010000
END:DAYLIGHT
BEGIN:STANDARD
TZOFFSETFROM:+0300
TZOFFSETTO:+0200
TZNAME:EET
DTSTART:20181028T010000
END:STANDARD
BEGIN:DAYLIGHT
TZOFFSETFROM:+0200
TZOFFSETTO:+0300
TZNAME:EEST
DTSTART:20190331T010000
END:DAYLIGHT
BEGIN:STANDARD
TZOFFSETFROM:+0300
TZOFFSETTO:+0200
TZNAME:EET
DTSTART:20191027T010000
END:STANDARD
END:VTIMEZONE
BEGIN:VEVENT
DTSTART;VALUE=DATE:20181201
DTEND;VALUE=DATE:20190109
DTSTAMP:20260425T014042
CREATED:20181130T220000Z
LAST-MODIFIED:20181224T033745Z
UID:88327-1543636800-1546919999@vaikodiena.lt
SUMMARY:ETM kalėdinių atvirukų kūrybinės dirbtuvės
DESCRIPTION:Likus kelioms savaitėms iki didžiausių metų švenčių kviesime užsukti į ETM kūrybines kalėdinių atvirukų dirbtuves! \nMuziejaus pramonės ekspozicijoje maišysime dažus\, kirpsime ir klijuosime vokus\, naudodami spaudos literas ir 3D spausdintuvu pagamintus kalėdinius ornamentus spausdinsime originalius atvirukus. \nDalyvavimas nemokamas\, tačiau reikalinga išankstinė registracija. Vietų skaičius ribotas!\n8 52 754312\ninfotaskas@etm.lt     \n
URL:https://vaikodiena.lt/renginys/etm-kalediniu-atviruku-kurybines-dirbtuves/
CATEGORIES:Įvykiai,Renginiai
ATTACH;FMTTYPE=image/jpeg:https://vaikodiena.lt/wp-content/uploads/2018/11/MB0_1681kk.jpg
END:VEVENT
END:VCALENDAR