BEGIN:VCALENDAR
VERSION:2.0
PRODID:-//Atsiliepimai, naujienos, informacija auginantiems vaikus - ECPv5.1.0//NONSGML v1.0//EN
CALSCALE:GREGORIAN
METHOD:PUBLISH
X-WR-CALNAME:Atsiliepimai, naujienos, informacija auginantiems vaikus
X-ORIGINAL-URL:https://vaikodiena.lt
X-WR-CALDESC:Atsiliepimai, naujienos, informacija auginantiems vaikus renginiai
BEGIN:VTIMEZONE
TZID:Europe/Vilnius
BEGIN:DAYLIGHT
TZOFFSETFROM:+0200
TZOFFSETTO:+0300
TZNAME:EEST
DTSTART:20230326T010000
END:DAYLIGHT
BEGIN:STANDARD
TZOFFSETFROM:+0300
TZOFFSETTO:+0200
TZNAME:EET
DTSTART:20231029T010000
END:STANDARD
END:VTIMEZONE
BEGIN:VEVENT
DTSTART;TZID=Europe/Vilnius:20230928T080000
DTEND;TZID=Europe/Vilnius:20231130T170000
DTSTAMP:20260425T120407
CREATED:20230928T063508Z
LAST-MODIFIED:20230928T063508Z
UID:101646-1695888000-1701363600@vaikodiena.lt
SUMMARY:CurioCity
DESCRIPTION:Sužinokite\, kaip pramogų centras gali tapti pamokų dalimi! Atraskite mokslo džiaugsmą žaisdami ir tyrinėdami!\nEdukacinės programos mokyklų ir darželių grupėms organizuojamos visus metus\, darbo dienomis iki 16 val.\, išskyrus liepos ir rugpjūčio mėn. Dėl edukacijų organizavimo moksleivių atostogų metu ir švenčių dienomis – teirautis individualiai.\nBūtina išankstinė registracija. Daugiau informacijos el. paštu smalsu@curiocity.lt arba telefonu +370 688 33202.\nSpeciali 2 val. programos kaina – 6\,5-9 Eur/vaikui.\nPedagogams\, lydintiems suaugusiems asmenims ir socialiai remtiniems vaikams – nemokamai.\nDalį programų galima užsisakyti per Kultūros pasą!\nhttps://curiocity.lt/veiklos/edukacines-programos/ \n
URL:https://vaikodiena.lt/renginys/curiocity/
CATEGORIES:Naujienos
ATTACH;FMTTYPE=image/jpeg:https://vaikodiena.lt/wp-content/uploads/2023/09/curio-city.jpeg
ORGANIZER;CN="CurioCity":MAILTO:smalsu@curiocity.lt
END:VEVENT
END:VCALENDAR