BEGIN:VCALENDAR
VERSION:2.0
PRODID:-//Atsiliepimai, naujienos, informacija auginantiems vaikus - ECPv5.1.0//NONSGML v1.0//EN
CALSCALE:GREGORIAN
METHOD:PUBLISH
X-WR-CALNAME:Atsiliepimai, naujienos, informacija auginantiems vaikus
X-ORIGINAL-URL:https://vaikodiena.lt
X-WR-CALDESC:Atsiliepimai, naujienos, informacija auginantiems vaikus renginiai
BEGIN:VTIMEZONE
TZID:Europe/Vilnius
BEGIN:DAYLIGHT
TZOFFSETFROM:+0200
TZOFFSETTO:+0300
TZNAME:EEST
DTSTART:20240331T010000
END:DAYLIGHT
BEGIN:STANDARD
TZOFFSETFROM:+0300
TZOFFSETTO:+0200
TZNAME:EET
DTSTART:20241027T010000
END:STANDARD
END:VTIMEZONE
BEGIN:VEVENT
DTSTART;TZID=Europe/Vilnius:20240912T080000
DTEND;TZID=Europe/Vilnius:20241130T170000
DTSTAMP:20260425T141025
CREATED:20240912T075227Z
LAST-MODIFIED:20240912T075227Z
UID:102375-1726128000-1732986000@vaikodiena.lt
SUMMARY:CurioCity.lt
DESCRIPTION:\nNAUJIENA #CURIOCITY – sensoriniai-patyriminiai užsiėmimai vaikams nuo 6 mėn. iki 3 metų amžiaus.  Čia vaikai eksperimentuos su įvairiomis medžiagomis\, tekstūromis\, formomis ir spalvomis\, lavindami savo emocinius\, intelektinius\, meninius\, socialinius ir fizinius įgūdžius! \n\n\nKADA?  Antradieniais\, 10:00–11:00 val. Pirmasis užsiėmimas jau rugsėjo 24 d.\nKIEK?  Rugsėjo mėnesio specialus pasiūlymas!\nVienas užsiėmimas – tik 10 Eur (standartinė kaina 14 Eur).\nKeturų užsiėmimų paketas – tik 35 Eur (standartinė kaina 49 Eur).\n\n\nREGISTRACIJA:  telefonu +370 688 33202 arba el. paštu  smalsu@curiocity.lt\n\n
URL:https://vaikodiena.lt/renginys/curiocity-lt/
LOCATION:Curio City mieste\, Islandijos pl 32 Kaunas\, Kaunas\, Lietuva
CATEGORIES:Naujienos
ATTACH;FMTTYPE=image/png:https://vaikodiena.lt/wp-content/uploads/2024/09/curio-city.png
END:VEVENT
END:VCALENDAR