BEGIN:VCALENDAR
VERSION:2.0
PRODID:-//Atsiliepimai, naujienos, informacija auginantiems vaikus - ECPv5.1.0//NONSGML v1.0//EN
CALSCALE:GREGORIAN
METHOD:PUBLISH
X-WR-CALNAME:Atsiliepimai, naujienos, informacija auginantiems vaikus
X-ORIGINAL-URL:https://vaikodiena.lt
X-WR-CALDESC:Atsiliepimai, naujienos, informacija auginantiems vaikus renginiai
BEGIN:VTIMEZONE
TZID:Europe/Vilnius
BEGIN:DAYLIGHT
TZOFFSETFROM:+0200
TZOFFSETTO:+0300
TZNAME:EEST
DTSTART:20240331T010000
END:DAYLIGHT
BEGIN:STANDARD
TZOFFSETFROM:+0300
TZOFFSETTO:+0200
TZNAME:EET
DTSTART:20241027T010000
END:STANDARD
END:VTIMEZONE
BEGIN:VEVENT
DTSTART;TZID=Europe/Vilnius:20240116T080000
DTEND;TZID=Europe/Vilnius:20240325T170000
DTSTAMP:20260426T023930
CREATED:20240116T095541Z
LAST-MODIFIED:20240116T095541Z
UID:101868-1705392000-1711386000@vaikodiena.lt
SUMMARY:BUDINČIOS AUKLĖS
DESCRIPTION:\nNorite individualaus dėmesio ar priežiūros? Rinkitės BUDINČIOS AUKLĖS paslaugą! \n\n\nKol ramiai tvarkysitės savo asmeninius reikaliukus\, vaikai smagiai laiką leis edukaciniame pramogų centre „CurioCity“ \n\n\nVaikai (nuo 3 metų amžiaus) bus nuolatos prižiūrimi auklės ne didesnėse kaip 5 vaikų grupelėse.  Jie ne tik galės pramogauti visame „CurioCity“\, bet ir dalyvaus individualiuose užsiėmimuose.\n\n\n Galimos vaikų priežiūros valandos: 8-21 val.\n Maitinimas – derinama individualiai.\n Būtina išankstinė registracija\, likus ne mažiau nei 3 centro darbo valandoms iki pageidaujamo laiko!\n\n\nDaugiau informacijos:  https://curiocity.lt/pasiulymai/budinti-aukle/\nel. paštu  info@curiocity.lt ir tel. 8-688-33202.\n\n\nMūsų darbo laikas:  I-VII\, 10-21 val.\nMus rasite:  Kaune\, PLC „MEGA” (Islandijos pl. 32).\nApsilankymo kainynas:  https://curiocity.lt/kainynas/\n\n
URL:https://vaikodiena.lt/renginys/budincios-aukles/
CATEGORIES:Naujienos
ATTACH;FMTTYPE=image/jpeg:https://vaikodiena.lt/wp-content/uploads/2024/01/budinti-aukle-scaled.jpeg
ORGANIZER;CN="CurioCity":MAILTO:smalsu@curiocity.lt
END:VEVENT
END:VCALENDAR