BEGIN:VCALENDAR
VERSION:2.0
PRODID:-//Atsiliepimai, naujienos, informacija auginantiems vaikus - ECPv5.1.0//NONSGML v1.0//EN
CALSCALE:GREGORIAN
METHOD:PUBLISH
X-WR-CALNAME:Atsiliepimai, naujienos, informacija auginantiems vaikus
X-ORIGINAL-URL:https://vaikodiena.lt
X-WR-CALDESC:Atsiliepimai, naujienos, informacija auginantiems vaikus renginiai
BEGIN:VTIMEZONE
TZID:Europe/Vilnius
BEGIN:DAYLIGHT
TZOFFSETFROM:+0200
TZOFFSETTO:+0300
TZNAME:EEST
DTSTART:20180325T010000
END:DAYLIGHT
BEGIN:STANDARD
TZOFFSETFROM:+0300
TZOFFSETTO:+0200
TZNAME:EET
DTSTART:20181028T010000
END:STANDARD
END:VTIMEZONE
BEGIN:VEVENT
DTSTART;TZID=Europe/Vilnius:20181108T020000
DTEND;TZID=Europe/Vilnius:20181108T020000
DTSTAMP:20260425T130301
CREATED:20181107T220000Z
LAST-MODIFIED:20181107T220000Z
UID:88316-1541642400-1541642400@vaikodiena.lt
SUMMARY:Iš Anglijos MINOTI / BABALUNO.
DESCRIPTION:Kai labai labai stipriai kažko nori\, tai būtinai taip ir nutinka! Lietuviukas.lt labai labai norėjo pasiūlyti ką nors gražaus ir šilto žiemai. O mamytės teiravosi apie striukes ir megztinius. Tad ir „there you go“🎉🎉🎉🙂 Lietuviukas.lt svečias iš Anglijos MINOTI / BABALUNO.\nPrekių kiekis labai ribotas! 😍\nhttp://www.lietuviukas.lt/prekes/sezono-sveciai-78     \n
URL:https://vaikodiena.lt/renginys/anglijos-minoti-babaluno/
CATEGORIES:Įvykiai,Nuolaidos
ATTACH;FMTTYPE=image/png:https://vaikodiena.lt/wp-content/uploads/2018/11/45657110_2432544643429373_1197470327035133952_n.png
END:VEVENT
END:VCALENDAR