BEGIN:VCALENDAR
VERSION:2.0
PRODID:-//Atsiliepimai, naujienos, informacija auginantiems vaikus - ECPv5.1.0//NONSGML v1.0//EN
CALSCALE:GREGORIAN
METHOD:PUBLISH
X-WR-CALNAME:Atsiliepimai, naujienos, informacija auginantiems vaikus
X-ORIGINAL-URL:https://vaikodiena.lt
X-WR-CALDESC:Atsiliepimai, naujienos, informacija auginantiems vaikus renginiai
BEGIN:VTIMEZONE
TZID:Europe/Vilnius
BEGIN:DAYLIGHT
TZOFFSETFROM:+0200
TZOFFSETTO:+0300
TZNAME:EEST
DTSTART:20260329T010000
END:DAYLIGHT
BEGIN:STANDARD
TZOFFSETFROM:+0300
TZOFFSETTO:+0200
TZNAME:EET
DTSTART:20261025T010000
END:STANDARD
END:VTIMEZONE
BEGIN:VEVENT
DTSTART;TZID=Europe/Vilnius:20260310T080000
DTEND;TZID=Europe/Vilnius:20260701T170000
DTSTAMP:20260425T120013
CREATED:20260310T063732Z
LAST-MODIFIED:20260310T064108Z
UID:103022-1773129600-1782925200@vaikodiena.lt
SUMMARY:TRAKO stovykla
DESCRIPTION:\nJau labai pasiilgome savo stovyklautojų ir su nekantrumu laukiame vasaros! \nTurime puikių žinių – registracija į stovyklą jau atidaryta!\n\n\nRegistruokitės čia: https://registracija.trakostovykla.lt/\n\n\nKilo klausimų? Drąsiai skambinkite  +370 615 88566.\nTikime\, kad 2026-ųjų vasara bus kupina nuotykių\, draugysčių ir nepamirštamų akimirkų!\n\n\n
URL:https://vaikodiena.lt/renginys/trako-stovykla-7/
CATEGORIES:Stovyklos
ATTACH;FMTTYPE=image/jpeg:https://vaikodiena.lt/wp-content/uploads/2026/03/trako-stovykla.jpg
ORGANIZER;CN="Trako%20stovykla":MAILTO:trakostovykla@gmail.com
END:VEVENT
BEGIN:VEVENT
DTSTART;TZID=Europe/Vilnius:20260310T080000
DTEND;TZID=Europe/Vilnius:20260731T170000
DTSTAMP:20260425T120013
CREATED:20260310T063909Z
LAST-MODIFIED:20260310T064050Z
UID:103024-1773129600-1785517200@vaikodiena.lt
SUMMARY:Basakojis stovyklos 2026
DESCRIPTION:STOVYKLA – TAI IR VIETA\, IR JAUSMAS BASAKOJO stovyklose su nakvyne labai daug lemia vietos\, kuriose gyvename\, judame ir leidžiame vasarą. Neatsitiktinai jas renkamės tokias\, kuriose vaikams lengva būti savimi\, o gamta tampa ne fonu\, o kasdienio gyvenimo dalimi. Stovyklos vyksta: Panevėžio rajone – sodyboje „Pas Rapolą“ Šiaulių rajone – sodyboje „Vėžežeris“ Trakų rajone – sodyboje „Užutrakio rezidencija“Tai ramios\, gamtos apsuptos vietos\, toliau nuo miesto triukšmo\, bet pilnos erdvės judėti\, tyrinėti ir patirti vasarą visu kūnu. Erdvės gamtoje – miškai\, vanduo\, takai ir plati erdvė judėti. Čia vaikai bėga basomis\, tyrinėja\, žaidžia ir natūraliai iškrauna visą susikaupusią energiją. Vandens džiaugsmas – maudynės\, žaidimai\, taškymasis ir tas tikras vasaros jausmas\, kurio vaikai laukia visus metus. Saugumas ir ramybė – užmiesčio lokacijos leidžia pabėgti nuo skubos. Vaikai čia jaučiasi saugiai\, o tėvai – ramūs. Erdvė augti – kiekviena vieta parinkta taip\, kad vaikai galėtų ne tik linksmintis\, bet ir mokytis savarankiškumo\, bendravimo bei komandinio darbo.BASAKOJO stovyklos – tai vietos\, kur vasara tampa tikra patirtimi\, o prisiminimai lieka ilgam. BASAKOJIS  +370 618 48288https://basakojis.lt/stovyklos-su-nakvyne \nMatyti mažiau\n
URL:https://vaikodiena.lt/renginys/basakojis-stovyklos-2026/
CATEGORIES:Stovyklos
ATTACH;FMTTYPE=image/jpeg:https://vaikodiena.lt/wp-content/uploads/2026/03/basakojis-scaled.jpg
ORGANIZER;CN="BASAKOJIS":MAILTO:stovyklabasakojis@gmail.com
END:VEVENT
BEGIN:VEVENT
DTSTART;TZID=Europe/Vilnius:20260310T080000
DTEND;TZID=Europe/Vilnius:20260726T170000
DTSTAMP:20260425T120013
CREATED:20260310T064034Z
LAST-MODIFIED:20260310T064034Z
UID:103026-1773129600-1785085200@vaikodiena.lt
SUMMARY:Alfaburys.lt
DESCRIPTION:\nVasara neturėtų būti užimta vien namų ruošos darbais ar veiklomis\, kurios kelia nuobodulį. Ji turi būti kupina juoko\, iššūkių\, naujų pažinčių\, įdomių istorijų bei įsimintinų patirčių\, apie kurias norėsis dar ilgai kalbėti ir prisiminti .\n\n\nAlfa Būrys – tai savaitė\, kurioje kiekviena diena kupina veiksmo: komandiniai išbandymai\, aktyvios veiklos\, vakaro renginiai\, prasmingos diskusijos ir daug gyvos bendrystės. Čia vaikai išmoksta\, ką reiškia būti komandos dalimi\, kaip įveikti baimes ir palaikyti vienas kitą .\n\n\nMes tikime\, kad stovykla gali būti daugiau nei pramoga. Ji gali tapti vieta\, kur stiprėja charakteris\, gimsta lyderystė ir auga pasitikėjimas savimi.\n\n\nKviečiame visus registruotis į Alfa būrį\, kurie trokšta\, kad vasara būtų ne eilinė\, ypatinga ir pilna nuotykių.\n\n\nGera žinia\, kad registruojantis visą kovo mėnesį\, taikoma 20% nuolaida su kodu: NARSUOLIS20.\n\n\nPrisijunkite  alfaburys.lt\n\n
URL:https://vaikodiena.lt/renginys/alfaburys-lt/
CATEGORIES:Stovyklos
ATTACH;FMTTYPE=image/png:https://vaikodiena.lt/wp-content/uploads/2026/03/Alfa-burys.png
ORGANIZER;CN="Alfa%20b%C5%ABrys":MAILTO:stovykla@alfarun.lt
END:VEVENT
BEGIN:VEVENT
DTSTART;TZID=Europe/Vilnius:20260310T080000
DTEND;TZID=Europe/Vilnius:20260531T170000
DTSTAMP:20260425T120013
CREATED:20260310T064258Z
LAST-MODIFIED:20260310T064258Z
UID:103028-1773129600-1780246800@vaikodiena.lt
SUMMARY:CurioCity.lt
DESCRIPTION:Švęskite gimtadienį dar smagiau – kartu su mylimu personažu!Personažas tampa tikru šventės herojumi ir vaikų draugu – jis kviečia į žaismingas temines užduotis\, kūrybines veiklas bei smagius žaidimus. Mažųjų laukia staigmenos\, šilti sveikinimai ir daugybė juoko bei nepamirštamų akimirkų. Išsirinkite personažą savo gimtadienio šventei jau dabar: https://curiocity.lt/wp…/uploads/2018/12/Personazai.pdf \n
URL:https://vaikodiena.lt/renginys/curiocity-lt-4/
CATEGORIES:Renginiai
ATTACH;FMTTYPE=image/jpeg:https://vaikodiena.lt/wp-content/uploads/2026/03/curiocity-gimtadieniai-scaled.jpg
END:VEVENT
BEGIN:VEVENT
DTSTART;TZID=Europe/Vilnius:20260310T080000
DTEND;TZID=Europe/Vilnius:20260601T170000
DTSTAMP:20260425T120013
CREATED:20260310T064505Z
LAST-MODIFIED:20260310T064505Z
UID:103030-1773129600-1780333200@vaikodiena.lt
SUMMARY:Little Medical School Lietuva
DESCRIPTION:\nVASAROS STOVYKLA su 40 € NUOLAIDA  Registruokitės iki balandžio 1 d. ir gaukite 40 € nuolaidą Mažosios Medicinos Mokyklos vasaros stovyklai.\n\n\nVaikų laukia:\n• eksperimentai ir praktinės veiklos\n• pažintis su medicinos pasauliu\n• nauji draugai ir nepamirštami nuotykiai\n\n\n Stovyklos vyks daugelyje Lietuvos miestų\n Birželio vidurys – rugpjūčio pabaiga\n 8:00–17:30\n\n\n Registracija jau vyksta\n\n\nĮ kainą įskaičiuota:\n visos veikloms reikalingos priemonės\n pietūs\n užkandžiai ir vanduo visos dienos metu\n\n\nPRAKTINĖ PATIRTIS – stovyklautojai patys tyrinės\, eksperimentuos ir atliks užduotis\, kurios padės geriau pažinti medicinos ir sveikatos mokslų pasaulį.\n\n\nMŪSŲ TIKSLAS – įkvėpti: meilę mokytis\, drąsą svajoti ir atrasti savo stiprybes – o gal net žengti pirmą žingsnį medicinos karjeros link.\n\n\n Registracija jau vyksta!\nhttps://littlemedicalschool.com/lithuania/vasaros-stovyklos/\n\n
URL:https://vaikodiena.lt/renginys/little-medical-school-lietuva-2/
CATEGORIES:Stovyklos
ATTACH;FMTTYPE=image/jpeg:https://vaikodiena.lt/wp-content/uploads/2026/03/mazoji-medicinos-stovykla-scaled.jpg
END:VEVENT
BEGIN:VEVENT
DTSTART;TZID=Europe/Vilnius:20260408T000000
DTEND;TZID=Europe/Vilnius:20261130T000000
DTSTAMP:20260425T120013
CREATED:20260408T090728Z
LAST-MODIFIED:20260408T090736Z
UID:103058-1775606400-1795996800@vaikodiena.lt
SUMMARY:Šeimos savaitgalis Anykščiuose keičiasi: „Labi parkas“ pristato naujieną\, kurios laukė lankytojai
DESCRIPTION:  \nŠeimos savaitgalis Anykščiuose keičiasi: „Labi parkas“ pristato naujieną\, kurios laukė lankytojai\nDar visai neseniai planuojant šeimos savaitgalį dažnai tekdavo rinktis – aktyvios pramogos ar ramus poilsis gamtoje\, trumpa išvyka ar visos dienos nuotykis\, tačiau šiandien vis daugiau vietų Lietuvoje bando šias patirtis sujungti į vieną visumą. Viena ryškiausių tokių vietų Anykščių regione – „Labi parkas“\, kuris gegužės 15 dieną pradeda naują sezoną ir kviečia patirti laisvalaikį kitaip – be skubėjimo\, be kompromisų ir su dar daugiau pasirinkimo laisvės. \nParkas\, kuris daugeliui vis dar asocijuojasi su labirintais\, per pastaruosius dvylika metų išaugo į visos dienos pramogų erdvę\, kurioje susijungia skirtingos veiklos\, skirtingi tempai ir skirtingi lankytojų poreikiai. Tai vieta\, kur vaikai gali išsidūkti\, tėvai –  atsipalaiduoti\, o visa šeima – patirti bendrą nuotykį\, kuris natūraliai suartina. \nŠį sezoną „Labi parkas“ pasitinka ne tik su atnaujintomis pramogų zonomis ir dar didesne veiklų įvairove\, bet ir su sprendimais\, kurie dar labiau palengvina visos dienos planavimą. Patogi infrastruktūra\, aiškiai išdėstytos erdvės ir „vieno bilieto“ principas leidžia lankytojams jaustis laisvai – čia nereikia skubėti\, nereikia rinktis\, nes daugybė veiklų jau įskaičiuota ir pasiekiama. \nVis dėlto didžiausia šio sezono naujiena tampa neribotų pramogų abonementas\, kuris iš esmės keičia požiūrį į tai\, kaip gali atrodyti šeimos laisvalaikis Lietuvoje. Tai pasiūlymas tiems\, kurie nori grįžti ne vieną kartą\, kurie vertina spontaniškas išvykas ir kurie nori turėti savo „vasaros vietą“\, į kurią galima sugrįžti kada panorėjus. \nAbonementas suteikia galimybę lankytis parke neribotai viso sezono metu\, todėl kiekvienas savaitgalis ar net paprasta darbo dienos popietė gali virsti mažomis atostogomis. Kadangi jis yra vardinis\, tai tampa ne tik praktišku pasirinkimu\, bet ir prasminga dovana – patirtimi\, kuri kartojasi ir kaskart sukuria naujų prisiminimų. \nPapildomą vertę kuria ir „Labi parko“ partneriai\, abonemento savininkams siūlantys specialias nuolaidas bei pasiūlymus Anykščiuose\, todėl visa išvyka tampa dar patogesnė ir turtingesnė – nuo pramogų iki maisto ar kitų veiklų. \nŠiuolaikinės šeimos vis dažniau ieško ne tiesiog vietų\, kur galima „nuvažiuoti“\, bet erdvių\, kuriose galima būti kartu\, patirti\, juoktis\, išbandyti ir išsivežti daugiau nei tik nuotraukas. „Labi parkas“ būtent tai ir siūlo – vietą\, kur nereikia planuoti kiekvienos minutės\, nes pati erdvė kviečia tyrinėti\, judėti ir mėgautis. \nNaujo sezono pradžia – tai puiki proga iš naujo atrasti Anykščius ir suplanuoti laiką\, kuris iš tiesų skirtas šeimai. O kai viena diena gali virsti šimtais įspūdžių\, kartais užtenka tik vieno sprendimo – išvykti. \n„Labi parkas“ lankytojų laukia nuo gegužės 15 dienos.\nDaugiau informacijos: www.labiparkas.lt \n\n„Labi parkas“ – visos dienos šeimos nuotykis po atviru dangumi. \n  \n
URL:https://vaikodiena.lt/renginys/seimos-savaitgalis-anyksciuose-keiciasi-labi-parkas-pristato-naujiena-kurios-lauke-lankytojai/
CATEGORIES:Naujienos
ATTACH;FMTTYPE=image/jpeg:https://vaikodiena.lt/wp-content/uploads/2026/04/Vaikodiena.lt-770x387-pix-4.jpg
END:VEVENT
END:VCALENDAR